BEGIN:VCALENDAR
VERSION:2.0
PRODID:-// - ECPv6.15.20//NONSGML v1.0//EN
CALSCALE:GREGORIAN
METHOD:PUBLISH
X-ORIGINAL-URL:https://tlcwomensgivingcircle.org
X-WR-CALDESC:Events for 
REFRESH-INTERVAL;VALUE=DURATION:PT1H
X-Robots-Tag:noindex
X-PUBLISHED-TTL:PT1H
BEGIN:VTIMEZONE
TZID:America/New_York
BEGIN:DAYLIGHT
TZOFFSETFROM:-0500
TZOFFSETTO:-0400
TZNAME:EDT
DTSTART:20250309T070000
END:DAYLIGHT
BEGIN:STANDARD
TZOFFSETFROM:-0400
TZOFFSETTO:-0500
TZNAME:EST
DTSTART:20251102T060000
END:STANDARD
BEGIN:DAYLIGHT
TZOFFSETFROM:-0500
TZOFFSETTO:-0400
TZNAME:EDT
DTSTART:20260308T070000
END:DAYLIGHT
BEGIN:STANDARD
TZOFFSETFROM:-0400
TZOFFSETTO:-0500
TZNAME:EST
DTSTART:20261101T060000
END:STANDARD
BEGIN:DAYLIGHT
TZOFFSETFROM:-0500
TZOFFSETTO:-0400
TZNAME:EDT
DTSTART:20270314T070000
END:DAYLIGHT
BEGIN:STANDARD
TZOFFSETFROM:-0400
TZOFFSETTO:-0500
TZNAME:EST
DTSTART:20271107T060000
END:STANDARD
END:VTIMEZONE
BEGIN:VEVENT
DTSTART;TZID=America/New_York:20260304T093000
DTEND;TZID=America/New_York:20260304T113000
DTSTAMP:20260423T130147
CREATED:20260210T005521Z
LAST-MODIFIED:20260210T005525Z
UID:4759-1772616600-1772623800@tlcwomensgivingcircle.org
SUMMARY:Board Meeting
DESCRIPTION:Monthly Board Meeting at The Lake Club Grande Clubhouse
URL:https://tlcwomensgivingcircle.org/event/board-meeting-10/
LOCATION:The Lake Club Grande Clubhouse\, 15804 Clearlake Ave\, Lakewood Ranch\, Florida\, 34202\, United States
CATEGORIES:Goverance
ATTACH;FMTTYPE=image/webp:https://tlcwomensgivingcircle.org/wp-content/uploads/2024/01/depositphotos_90373724-stock-illustration-board-meeting-abstract-vector-background.webp
END:VEVENT
BEGIN:VEVENT
DTSTART;TZID=America/New_York:20260304T170000
DTEND;TZID=America/New_York:20260304T200000
DTSTAMP:20260423T130147
CREATED:20260108T162335Z
LAST-MODIFIED:20260304T163136Z
UID:4419-1772643600-1772654400@tlcwomensgivingcircle.org
SUMMARY:March Potluck Gathering
DESCRIPTION:Join us for a relaxed and joyful evening of connection\, conversation\, and community at our March Giving Circle Potluck! This is a wonderful opportunity to catch up with fellow members\, welcome new faces\, and enjoy a cozy night together in a beautiful home setting. \n\n\n\nDate: Wednesday\, March 4\, 2026 \n\n\n\nTime: 5:00 – 8:00 PM \n\n\n\nLocation: Jo Jadin’s Home:  14767 Como Circle \n\n\n\n\n\nWhat to Bring \n\n\n\nPlease sign up to bring any of the categories listed below to share: \n\n\n\n\n\n\n\n\n\n\nAppetizer – 6 Spots –  7 Signed-Up\n\n\n\nSalad – 3 Spots –  2 Signed-Up\n\n\n\nMain Dish – 6 Spots – 3 Signed-Up\n\n\n\nDessert – 6 Spots –  4 Signed-Up\n\n\n\nRed wine – 9 Bottles – 4 Signed-Up\n\n\n\nWhite wine – 8 Bottles – 2 Signed-Up\n\n\n\nProsecco / sparkling / champagne – 8 Bottles –  3 Signed-Up\n\n\n\nNon-alcoholic beverages (sparkling water\, still water\, sodas\, etc.) – 3 Spots \n\n\n\nCoffee / tea – 3 Spots – 0 Signed-Up\n\n\n\nIce – 2 Spots – – 1 Signed-Up\n\n\n\nSupplies (including disposables\, to-go containers\, wine openers / corkscrews)\n\n\n\n\n\n\n\n\n\n\nWhen signing up\, please enter the name or type of dish you plan to bring. This helps us avoid duplicates and makes planning easier. \n\n\n\nHere is what has been selected so far: \n\n\n\n\n\n\nName\nSelect Item You Will Bring\nName or Type of Dish You Plan to Bring\nEdit\n\n\n\n\nPeggy Li\nRed Wine Bottle\n\n\n\n\n\n\n\nVivian Lane\nRed Wine Bottle\n\n\n\n\n\n\n\nLisa Levesque\nRed Wine Bottle\n\n\n\n\n\n\n\nLauren Hirsch\nProsecco/Sparkling/Champagne Bottle\n\n\n\n\n\n\n\nJohnni Gullo-Brown\nProsecco/Sparkling/Champagne Bottle\nJohnni Gullo-Brown\n\n\n\n\n\n\nGari Palmer\nNon-Alcoholic Beverage  (sparkling water\, still water\, sodas\, etc.)\nSparkling water. Do you prefer small plastic bottles or cans?\n\n\n\n\n\n\nLinda Goldman\nDessert\nPastry\n\n\n\n\n\n\nJoan Loewy\nDessert\n\n\n\n\n\n\n\nArleen Levine\nDessert\nCheesecake\n\n\n\n\n\n\nWendy Fox\nAppetizer\nTurkey sliders\n\n\n\n\n\n\nLu-Anne Albert\nAppetizer\nCaprese Skewers\n\n\n\n\n\n\nRuth Harshman\nAppetizer\nVeggies and Humus\n\n\n\n\n\n\nNancy Lepain\nAppetizer\n\n\n\n\n\n\n\nBernadette Waterman\nAppetizer\nShrimp cocktail\n\n\n\n\n\n\nCarol Kloeppel\nAppetizer\nSausage Pinwheels\n\n\n\n\n\n\nRoxanne DiGangi\nMain Dish\nGrilled chicken\n\n\n\n\n\n\nPatricia Pope\nMain Dish\nMac & Cheese\n\n\n\n\n\n\nBarbara Najmy\nMain Dish\nFresh Baked Bread\n\n\n\n\n\n\nLinda Abravanel\nSalad\, White Wine Bottle\nGreek salad with grilled chicken\n\n\n\n\n\n\nKelly Lountzis\nDessert\, Red Wine Bottle\, White Wine Bottle\nDessert\n\n\n\n\n\n\nLeslie Powers\nAppetizer\, Salad\, Prosecco/Sparkling/Champagne Bottle\nWill bring a large salad or appetizer if that is direction we are going? Let me know!\n\n\n\n\n\n\nPatricia Horner\nIce\, Disposable plates (dinner plates & dessert plates)\, Disposable cutlery\, Disposable napkins\, Disposable cups\n\n\n\n\n\n\n\nSheila Lau\n\nLet me know what you would like me to bring.  Maybe we just make this all heavy appetizers.\n\n\n\n\n\n\n\n\n\n\n\nTo register for the event\, complete the form below: \n\n\n\n\n\n\nSocial – Potluck Registration\n\n\n\n\n\n\n\n\n	Name\n		*\n	\n	\n	\n		Name	\n\n	\n					\n				\n					First Name				\n\n				First Name			\n						\n				\n					Last Name				\n\n				Last Name			\n				\n\n\n	\n	\n\n\n	Select Item You Will Bring\n		*\n	\n						\n			 Salad\n					\n			 Main Dish\n					\n			 Dessert\n					\n			 Red Wine Bottle\n					\n			 White Wine Bottle\n					\n			 Prosecco/Sparkling/Champagne Bottle\n					\n			 Non-Alcoholic Beverage  (sparkling water\, still water\, sodas\, etc.)\n					\n			 Coffee/Tea\n					\n			 Ice\n					\n			 Disposable plates (dinner plates & dessert plates)\n					\n			 Disposable cutlery\n					\n			 Disposable napkins\n					\n			 Disposable cups\n					\n			 Disposable wine glasses\n					\n			 Disposable serving utensils\n					\n			 Wine openers / corkscrews\n					\n			 To-go containers\n\n	\n	\n\n\n	Name or Type of Dish You Plan to Bring\n		\n	\n	\n	\n	\n\n\n	\nSubmit\n\n\n\n\n\n\n	\n			\n			\n				If you are human\, leave this field blank.			\n			\n		\n		\n\n\n\nΔ
URL:https://tlcwomensgivingcircle.org/event/march-community-potluck/
CATEGORIES:Registration Required,Socials
ATTACH;FMTTYPE=image/png:https://tlcwomensgivingcircle.org/wp-content/uploads/2026/01/29468431_2097019940545564_2720905113941049344_n.png
END:VEVENT
BEGIN:VEVENT
DTSTART;TZID=America/New_York:20260313T110000
DTEND;TZID=America/New_York:20260313T120000
DTSTAMP:20260423T130147
CREATED:20260307T141454Z
LAST-MODIFIED:20260307T141530Z
UID:5535-1773399600-1773403200@tlcwomensgivingcircle.org
SUMMARY:Members Meeting: Conversation About Our Future
DESCRIPTION:Over the past several years\, many of our members have expressed excitement about the possibility of our organization becoming a 501(c)(3) nonprofit. We are pleased to share that we have now reached a point in our organization’s growth where the Board has unanimously voted to move forward with this process\, marking an exciting new chapter for The Lake Club Women’s Giving Circle. \n\n\n\nBecoming a 501(c)(3) would allow us to strengthen our long-term sustainability\, expand fundraising opportunities\, and further increase the impact we are able to make for the organizations and families we support in our community. \n\n\n\nAs part of these discussions\, an important topic that has emerged is the possibility of a future organizational name change to better align with the structure and vision of the organization as it evolves. \n\n\n\nBecause this represents an important moment in the future of our Giving Circle\, the Board believes it is essential that our membership be part of the conversation. We invite and encourage any member who would like to learn more\, ask questions\, or share their perspective to join us for an upcoming informational discussion: \n\n\n\nMember Roundtable & Information Session \n\n\n\nFriday\, March 13 \n\n\n\n11:00 AM – 12:00 PM \n\n\n\nThe Lake Club Grande Clubhouse \n\n\n\nDuring this gathering\, we will: \n\n\n\n• Share an overview of the 501(c)(3) process and what it means for our organization \n\n\n\n• Discuss the potential name change and the thinking behind the conversation \n\n\n\n• Provide an opportunity for members to ask questions and share feedback \n\n\n\nYour voice and perspective matter. As a member-driven organization\, we want to ensure our community has the opportunity to learn about the process\, ask questions\, and be part of the dialogue as we thoughtfully consider this next step together. \n\n\n\nTo respect everyone’s time\, the discussion will be limited to one hour\, but we hope it will be a meaningful opportunity for open conversation and shared vision. \n\n\n\nWe hope you will join us. \n\n\n\nWith gratitude\, \n\n\n\nTLCWGC Board Members
URL:https://tlcwomensgivingcircle.org/event/member-meeting-conversation-about-our-future/
LOCATION:The Lake Club Grande Clubhouse\, 15804 Clearlake Ave\, Lakewood Ranch\, Florida\, 34202\, United States
ATTACH;FMTTYPE=image/jpeg:https://tlcwomensgivingcircle.org/wp-content/uploads/2026/03/Member-Meeting.jpeg
END:VEVENT
BEGIN:VEVENT
DTSTART;TZID=America/New_York:20260317T090000
DTEND;TZID=America/New_York:20260317T103000
DTSTAMP:20260423T130147
CREATED:20260109T213035Z
LAST-MODIFIED:20260311T202028Z
UID:4455-1773738000-1773743400@tlcwomensgivingcircle.org
SUMMARY:Group Service Opportunity - Meals on Wheels Plus of Manatee
DESCRIPTION:Organization Name: Meals on Wheels PLUS of Manatee\, Inc. Event: Group Service Opportunity – Meals on Wheels Plus of Manatee CountyVolunteers will assist Meals on Wheels Plus of Manatee County with packing produce bags for later distribution. Volunteers will walk through the food bank area\, select produce\, and pack bags for the distribution team. \n Event Date: March 17\, 2026   Start Time: 9:00 AM – End Time: 10:30 AM Carpool Departure Time: 8:00 AM Number of Attendees: 15 Who Can Attend: Members\, Prospective Members\, Spouses/Significant Others\, Friends Additional Information: Additional Information & Requirements: \nCarpooling requested as parking will be limited due to repaving.\nPlease wear casual clothing and closed-toe shoes\nDon’t forget your TLCWGC name tag\nCarpooling will be coordinated from The Lake Club Grande Clubhouse – Lower Level Parking Lot (will be coordinated via group text one week prior to the event)\nCarpool departure time: 8:15 AM \n Lunch Information: Brunch immediately after event at 11:00AM at The Breakfast Company\, 12 oaks Plaza\, 7246 55th Ave E\, Bradenton \n Information About Charity:Meals on Wheels Plus of Manatee County  is the largest hunger-relief organization in Manatee County. The Food Bank distributes food to more than 85 partner agencies and pantries\, as well as through direct services. Programs include emergency food assistance\, summer out-of-school food programs\, and mobile pantries serving those in need throughout the community. \n https://mealsonwheelsplus.org Address: Meals on Wheels of Manatee County Food Bank\, 811 23rd Ave E Bradenton\nAcross from Tropicana Plant on opposite side of US 301 \n Any questions please contact Cinda Krouk at cindakrouk@gmail.com or 727-804-1664 \n\n\n\n\nClick Here To Learn More & Sign Up
URL:https://tlcwomensgivingcircle.org/event/4455/
LOCATION:811 23rd Avenue East\, Bradenton\, FL 34208\, 811v
CATEGORIES:Group Service Opportunities,Home Page,Upcoming
ATTACH;FMTTYPE=image/jpeg:https://tlcwomensgivingcircle.org/wp-content/uploads/2026/01/MOWP-Logo-Header.png.jpg
END:VEVENT
END:VCALENDAR