BEGIN:VCALENDAR
VERSION:2.0
PRODID:-// - ECPv6.15.20//NONSGML v1.0//EN
CALSCALE:GREGORIAN
METHOD:PUBLISH
X-ORIGINAL-URL:https://tlcwomensgivingcircle.org
X-WR-CALDESC:Events for 
REFRESH-INTERVAL;VALUE=DURATION:PT1H
X-Robots-Tag:noindex
X-PUBLISHED-TTL:PT1H
BEGIN:VTIMEZONE
TZID:America/New_York
BEGIN:DAYLIGHT
TZOFFSETFROM:-0500
TZOFFSETTO:-0400
TZNAME:EDT
DTSTART:20250309T070000
END:DAYLIGHT
BEGIN:STANDARD
TZOFFSETFROM:-0400
TZOFFSETTO:-0500
TZNAME:EST
DTSTART:20251102T060000
END:STANDARD
BEGIN:DAYLIGHT
TZOFFSETFROM:-0500
TZOFFSETTO:-0400
TZNAME:EDT
DTSTART:20260308T070000
END:DAYLIGHT
BEGIN:STANDARD
TZOFFSETFROM:-0400
TZOFFSETTO:-0500
TZNAME:EST
DTSTART:20261101T060000
END:STANDARD
BEGIN:DAYLIGHT
TZOFFSETFROM:-0500
TZOFFSETTO:-0400
TZNAME:EDT
DTSTART:20270314T070000
END:DAYLIGHT
BEGIN:STANDARD
TZOFFSETFROM:-0400
TZOFFSETTO:-0500
TZNAME:EST
DTSTART:20271107T060000
END:STANDARD
BEGIN:DAYLIGHT
TZOFFSETFROM:-0500
TZOFFSETTO:-0400
TZNAME:EDT
DTSTART:20280312T070000
END:DAYLIGHT
BEGIN:STANDARD
TZOFFSETFROM:-0400
TZOFFSETTO:-0500
TZNAME:EST
DTSTART:20281105T060000
END:STANDARD
END:VTIMEZONE
BEGIN:VEVENT
DTSTART;TZID=America/New_York:20260506T093000
DTEND;TZID=America/New_York:20260506T113000
DTSTAMP:20260423T144412
CREATED:20260405T133553Z
LAST-MODIFIED:20260405T135259Z
UID:6178-1778059800-1778067000@tlcwomensgivingcircle.org
SUMMARY:Board Meeting
DESCRIPTION:
URL:https://tlcwomensgivingcircle.org/event/board-meeting-12/
LOCATION:The Lake Club Grande Clubhouse\, 15804 Clearlake Ave\, Lakewood Ranch\, Florida\, 34202\, United States
CATEGORIES:Goverance,Home Page,Meetings
ATTACH;FMTTYPE=image/webp:https://tlcwomensgivingcircle.org/wp-content/uploads/2024/01/depositphotos_90373724-stock-illustration-board-meeting-abstract-vector-background.webp
END:VEVENT
BEGIN:VEVENT
DTSTART;TZID=America/New_York:20260514T133000
DTEND;TZID=America/New_York:20260514T160000
DTSTAMP:20260423T144412
CREATED:20260310T202405Z
LAST-MODIFIED:20260406T140421Z
UID:5659-1778765400-1778774400@tlcwomensgivingcircle.org
SUMMARY:Group Service Opportunity- Tidewell Foundation
DESCRIPTION:Organization Name: Tidewell Foundation\n\n\nEvent: Group Service Opportunity\, Tidewell Foundation\nJoin us in making a meaningful difference in the lives of hospice patients by helping create no-sew fleece blankets that provide warmth\, comfort\, and compassion during a vulnerable time. This hands-on service opportunity with Tidewell Hospice\, part of Empath Health\, allows our members to directly impact patients and families in our Sarasota and Manatee County community.  Since 1980\, Tidewell Hospice has provided exceptional care and support to individuals facing chronic and advanced illness\, now serving more than 1\,100 patients across Manatee\, Sarasota\, Port Charlotte\, and DeSoto counties.  Whether you are a longtime member or joining your first service project\, this is a wonderful opportunity to: • Connect with fellow Giving Circle members • Give back in a tangible and heartfelt way • Support an organization doing vital work in our community  We hope you will consider joining us for this meaningful afternoon of service and connection.  We will be assembling no sew fleece blankets and possibly cutting large fabric squares for assembly. \n\n\n\nEvent Date: May 14\, 2026  Start Time: 1:30 PM – End Time: 4:00 PM\n\n\nCarpool Departure Time: 11:15 AM\n\n\nNumber of Attendees: 12\n\n\nWho Can Attend: Members\, Prospective Members\, Spouses/Significant Others\, Friends\n\nAdditional Information: \nCasual attire\, mostly standing\, some sitting.\nWear name tags.\nBuilding is a secure workplace. Meet in lobby at 1:25 PM for ushered entrance to the 2nd floor conference room. \n\n\nLunch Information: \nWe will be enjoying a before service lunch at Percoco’s Pizza and Pasta Restaurant in downtown Lakewood Ranch (8131 Lakewood main St.) meeting there at 11:30AM and departing for Tidewell at about 1:10PM. \n\n\nInformation About Charity:\nTidewell Hospice is a member of Empath Health\, a not for profit integrated network of care supporting those living with chronic and advanced illness and the largest nonprofit and hospice provider in the country. Since 1980\, Tidewell has added services as needed to the community. It now serves 1.100 hospice patients in Manatee\, Sarasota\, Port Charlotte and Desoto Counties. \n\n\nhttps://tidewellhospice.org\n\nAddress: \n\nTidewell Foundation\, Administration Building\, 6310 Capitol Drive\, Bradenton. Corner of Lorraine Rd and University. \n\n\nAny questions please contact Cinda Kroukat cindakrouk@gmail.com or 7278041664\n\n\n\nYOU MUST BE LOGGED IN TO SIGN-UP FOR AN EVENT\n\n\nSign-Up to Volunteer
URL:https://tlcwomensgivingcircle.org/event/group-service-opportunity-tidewell-foundation/
LOCATION:Tidewell Foundation\, 6310 Capitol Drive\, Bradenton\, Florida\, United States
CATEGORIES:Group Service Opportunities
ATTACH;FMTTYPE=image/jpeg:https://tlcwomensgivingcircle.org/wp-content/uploads/2026/03/Tidewell-Foundation-Stacked-Full-Color1x1-e1773260276835.jpg
END:VEVENT
BEGIN:VEVENT
DTSTART;TZID=America/New_York:20260521T170000
DTEND;TZID=America/New_York:20260521T200000
DTSTAMP:20260423T144412
CREATED:20260406T201919Z
LAST-MODIFIED:20260421T161914Z
UID:6254-1779382800-1779393600@tlcwomensgivingcircle.org
SUMMARY:Music Bingo Night
DESCRIPTION:Music Bingo Night\n\n\nDate: May 21\, 2026   Time: 5:00 PM – 8:00 PM\n\n\nJoin us for a fun night of Music Bingo.  Buffet Dinner & Signature Cocktail. \n\nLocation: \nThe Lake Club Grande Clubhouse\n\n\nAdditional Information:
URL:https://tlcwomensgivingcircle.org/event/music-bingo-night/
LOCATION:TLC Grande Clubhouse\, 15804 Clearlake Ave\, Lakewood Ranch\, Florida\, 34207\, United States
CATEGORIES:Home Page,Socials
ATTACH;FMTTYPE=image/png:https://tlcwomensgivingcircle.org/wp-content/uploads/2026/04/Music-Bingo.png
END:VEVENT
BEGIN:VEVENT
DTSTART;TZID=America/New_York:20260610T113000
DTEND;TZID=America/New_York:20260610T123000
DTSTAMP:20260423T144412
CREATED:20260307T143730Z
LAST-MODIFIED:20260406T140541Z
UID:5540-1781091000-1781094600@tlcwomensgivingcircle.org
SUMMARY:Tour Forty Carrots Family Center
DESCRIPTION:Organization Name: Forty Carrots Family Center\n\n\nEvent: Outreach Tour\, Forty Carrots Family Center\nIf you are interested in seeing and learning about one of our not for profit charity’s that has received a grant from TLCWGC\, this is for you!  We will receive both Information and a tour of the new Forty Carrots’ campus off of Cattleman Rd in Sarasota. From the observation deck\, we will be able to watch the “Welcome to Our World” new parent and infant support group in process. This is very similar to the Forty Carrots parenting education programming that The Lake Club Women’s Circle grant supported with the 40 Carrots Lightshare Mother’s & Infants program.. \n\n\n\nEvent Date: June 10\, 2026  Start Time: 11:30 AM – End Time: 12:30 PM\n\n\nCarpool Departure Time: 11:00 AM\n\n\nNumber of Attendees: 6\n\n\nWho Can Attend: Members\n\nAdditional Information: \nAttire will be casual\,   parking is available. \n\n\nLunch Information: \n1 PM Lunch at Flemmings (on our way home )will immediately follow the event\,  Located on the N side of the UTC campus. \n\n\nInformation About Charity:\n40 Carrots Family Center was established over 30 years ago with the vision that all parents will provide experiences and environments that are emotionally and physically safe so their children can grow into caring and capable people. Their mission is to nurture healthy child and family development through research based\, relationship centered education and mental health services. They provide parenting education and mental health services for parents\, children\, adolescents and families\,  and also have a nationally accredited preschool. 96% of their 5\,603 clients received free services last year and they provided 1907 free community outreach groups at 33 community partner locations. their organization has grown over the past 30 years\, as the need for their services. We will be able to experience their newest service center in action in Sarasota on June 10th. \n\n\nhttps://fortycarrots.com\n\nAddress: \n\n1350 Cattleman Rd\, Sarasota 34232 \n\n\nAny questions please contact Cinda Kroukat cindakrouk@gmail.com or 7278041664\n\n\n\nYOU MUST BE LOGGED IN TO SIGN-UP FOR AN EVENT\n\n\nSign-Up to Volunteer
URL:https://tlcwomensgivingcircle.org/event/tour-forty-carrots-family-center/
CATEGORIES:Group Service Opportunities,Socials with a Purpose
ATTACH;FMTTYPE=image/png:https://tlcwomensgivingcircle.org/wp-content/uploads/2025/05/site-logo.png
END:VEVENT
BEGIN:VEVENT
DTSTART;TZID=America/New_York:20260805T090000
DTEND;TZID=America/New_York:20260805T113000
DTSTAMP:20260423T144412
CREATED:20260409T164125Z
LAST-MODIFIED:20260409T164128Z
UID:6318-1785920400-1785929400@tlcwomensgivingcircle.org
SUMMARY:Organizing Thrift Shop Items
DESCRIPTION:Organization Name: Mothers Helping Mothers\n\n\nEvent: Organizing Thrift shop Items\nVolunteers will be sorting\, hanging\, and receiving donated items along with other possible activities in thrift shop.\nMothers helping Mothers just went under a full renovation\, and we will be among the first to serve in their updated facility. \n\n\n\nEvent Date: August 5\, 2026  Start Time: 9:00 AM – End Time: 11:30 AM\n\n\nCarpool Departure Time: 8:15 AM\n\n\nNumber of Attendees: 12\n\n\nWho Can Attend: Members\, Prospective Members\, Spouses/Significant Others\, Friends\n\nAdditional Information: \nParking is available on sight\, volunteers should wear closed toe shoes\, and casual attire. Please bring water bottles\, we have snacks and a water fountain for refills. Please leave personal belongings in the car for safety.\nYou can serve running around the store or sitting in a chair hanging clothes. \n\n\nLunch Information: \n\n\nInformation About Charity:\nMothers helping Mothers provides basic necessities and new baby equipment\, formula\, diapers\, and merchandise free of charge to local families in need.  We also provide one-time\, helping-hand-up\, financial assistance for clients in crisis in order to stave off\nhomelessness and suffering\, and act as a single hub for connecting local resources and community support specific to their situation. Because MHM is a 100% volunteer-run non profit operating for over 30 years\, every dollar donated goes directly to these services. \n\n\nhttps://mhmsarasota.org\n\nAddress: \n\n5933 N Washington Blvd. Sarasota \n\n\nAny questions please contact Paula Olsenat ptolie2@comcast.net or 860-841-0290\n\n\n\nYOU MUST BE LOGGED IN TO SIGN-UP FOR AN EVENT\n\n\nSign-Up to Volunteer
URL:https://tlcwomensgivingcircle.org/event/organizing-thrift-shop-items/
ATTACH;FMTTYPE=image/png:https://tlcwomensgivingcircle.org/wp-content/uploads/2022/12/Logo-w-Transparent-Background-THICKER-LINES-and-_20221210_145215_0000.png
END:VEVENT
BEGIN:VEVENT
DTSTART;TZID=America/New_York:20260902T093000
DTEND;TZID=America/New_York:20260902T113000
DTSTAMP:20260423T144412
CREATED:20260405T133652Z
LAST-MODIFIED:20260405T135259Z
UID:6180-1788341400-1788348600@tlcwomensgivingcircle.org
SUMMARY:Board Meeting
DESCRIPTION:
URL:https://tlcwomensgivingcircle.org/event/board-meeting-13/
LOCATION:The Lake Club Grande Clubhouse\, 15804 Clearlake Ave\, Lakewood Ranch\, Florida\, 34202\, United States
CATEGORIES:Goverance,Home Page,Meetings
ATTACH;FMTTYPE=image/webp:https://tlcwomensgivingcircle.org/wp-content/uploads/2024/01/depositphotos_90373724-stock-illustration-board-meeting-abstract-vector-background.webp
END:VEVENT
BEGIN:VEVENT
DTSTART;TZID=America/New_York:20261007T093000
DTEND;TZID=America/New_York:20261007T113000
DTSTAMP:20260423T144412
CREATED:20260405T133756Z
LAST-MODIFIED:20260405T135258Z
UID:6182-1791365400-1791372600@tlcwomensgivingcircle.org
SUMMARY:Board Meeting
DESCRIPTION:
URL:https://tlcwomensgivingcircle.org/event/board-meeting-14/
LOCATION:The Lake Club Grande Clubhouse\, 15804 Clearlake Ave\, Lakewood Ranch\, Florida\, 34202\, United States
CATEGORIES:Goverance,Home Page,Meetings
ATTACH;FMTTYPE=image/webp:https://tlcwomensgivingcircle.org/wp-content/uploads/2024/01/depositphotos_90373724-stock-illustration-board-meeting-abstract-vector-background.webp
END:VEVENT
BEGIN:VEVENT
DTSTART;TZID=America/New_York:20261104T093000
DTEND;TZID=America/New_York:20261104T113000
DTSTAMP:20260423T144412
CREATED:20260405T133852Z
LAST-MODIFIED:20260405T135258Z
UID:6184-1793784600-1793791800@tlcwomensgivingcircle.org
SUMMARY:Board Meeting
DESCRIPTION:
URL:https://tlcwomensgivingcircle.org/event/board-meeting-15/
LOCATION:The Lake Club Grande Clubhouse\, 15804 Clearlake Ave\, Lakewood Ranch\, Florida\, 34202\, United States
CATEGORIES:Goverance,Home Page,Meetings
ATTACH;FMTTYPE=image/webp:https://tlcwomensgivingcircle.org/wp-content/uploads/2024/01/depositphotos_90373724-stock-illustration-board-meeting-abstract-vector-background.webp
END:VEVENT
BEGIN:VEVENT
DTSTART;TZID=America/New_York:20261202T093000
DTEND;TZID=America/New_York:20261202T113000
DTSTAMP:20260423T144412
CREATED:20260405T135023Z
LAST-MODIFIED:20260405T135258Z
UID:6202-1796203800-1796211000@tlcwomensgivingcircle.org
SUMMARY:Annual Meeting of the Board of Directors
DESCRIPTION:
URL:https://tlcwomensgivingcircle.org/event/annual-meeting-of-the-board-of-directors/
LOCATION:The Lake Club Grande Clubhouse\, 15804 Clearlake Ave\, Lakewood Ranch\, Florida\, 34202\, United States
CATEGORIES:Goverance,Home Page,Meetings
ATTACH;FMTTYPE=image/jpeg:https://tlcwomensgivingcircle.org/wp-content/uploads/2023/11/Member-Meeting.jpeg
END:VEVENT
BEGIN:VEVENT
DTSTART;TZID=America/New_York:20270106T093000
DTEND;TZID=America/New_York:20270106T113000
DTSTAMP:20260423T144412
CREATED:20260405T133947Z
LAST-MODIFIED:20260405T135258Z
UID:6186-1799227800-1799235000@tlcwomensgivingcircle.org
SUMMARY:Board Meeting
DESCRIPTION:
URL:https://tlcwomensgivingcircle.org/event/board-meeting-16/
LOCATION:The Lake Club Grande Clubhouse\, 15804 Clearlake Ave\, Lakewood Ranch\, Florida\, 34202\, United States
CATEGORIES:Goverance,Home Page,Meetings
ATTACH;FMTTYPE=image/webp:https://tlcwomensgivingcircle.org/wp-content/uploads/2024/01/depositphotos_90373724-stock-illustration-board-meeting-abstract-vector-background.webp
END:VEVENT
BEGIN:VEVENT
DTSTART;TZID=America/New_York:20270203T093000
DTEND;TZID=America/New_York:20270203T113000
DTSTAMP:20260423T144412
CREATED:20260405T134059Z
LAST-MODIFIED:20260405T135258Z
UID:6188-1801647000-1801654200@tlcwomensgivingcircle.org
SUMMARY:Board Meeting
DESCRIPTION:
URL:https://tlcwomensgivingcircle.org/event/board-meeting-17/
LOCATION:The Lake Club Grande Clubhouse\, 15804 Clearlake Ave\, Lakewood Ranch\, Florida\, 34202\, United States
CATEGORIES:Goverance,Home Page,Meetings
ATTACH;FMTTYPE=image/webp:https://tlcwomensgivingcircle.org/wp-content/uploads/2024/01/depositphotos_90373724-stock-illustration-board-meeting-abstract-vector-background.webp
END:VEVENT
BEGIN:VEVENT
DTSTART;TZID=America/New_York:20270303T093000
DTEND;TZID=America/New_York:20270303T113000
DTSTAMP:20260423T144412
CREATED:20260405T134155Z
LAST-MODIFIED:20260405T135257Z
UID:6190-1804066200-1804073400@tlcwomensgivingcircle.org
SUMMARY:Board Meeting
DESCRIPTION:
URL:https://tlcwomensgivingcircle.org/event/board-meeting-18/
LOCATION:The Lake Club Grande Clubhouse\, 15804 Clearlake Ave\, Lakewood Ranch\, Florida\, 34202\, United States
CATEGORIES:Goverance,Home Page,Meetings
ATTACH;FMTTYPE=image/webp:https://tlcwomensgivingcircle.org/wp-content/uploads/2024/01/depositphotos_90373724-stock-illustration-board-meeting-abstract-vector-background.webp
END:VEVENT
BEGIN:VEVENT
DTSTART;TZID=America/New_York:20270407T093000
DTEND;TZID=America/New_York:20270407T113000
DTSTAMP:20260423T144412
CREATED:20260405T134255Z
LAST-MODIFIED:20260405T135257Z
UID:6192-1807090200-1807097400@tlcwomensgivingcircle.org
SUMMARY:Board Meeting
DESCRIPTION:
URL:https://tlcwomensgivingcircle.org/event/board-meeting-19/
LOCATION:The Lake Club Grande Clubhouse\, 15804 Clearlake Ave\, Lakewood Ranch\, Florida\, 34202\, United States
CATEGORIES:Goverance,Home Page,Meetings
ATTACH;FMTTYPE=image/webp:https://tlcwomensgivingcircle.org/wp-content/uploads/2024/01/depositphotos_90373724-stock-illustration-board-meeting-abstract-vector-background.webp
END:VEVENT
BEGIN:VEVENT
DTSTART;TZID=America/New_York:20270505T093000
DTEND;TZID=America/New_York:20270505T113000
DTSTAMP:20260423T144412
CREATED:20260405T134352Z
LAST-MODIFIED:20260405T135257Z
UID:6194-1809509400-1809516600@tlcwomensgivingcircle.org
SUMMARY:Board Meeting
DESCRIPTION:
URL:https://tlcwomensgivingcircle.org/event/board-meeting-20/
LOCATION:The Lake Club Grande Clubhouse\, 15804 Clearlake Ave\, Lakewood Ranch\, Florida\, 34202\, United States
CATEGORIES:Goverance,Home Page,Meetings
ATTACH;FMTTYPE=image/webp:https://tlcwomensgivingcircle.org/wp-content/uploads/2024/01/depositphotos_90373724-stock-illustration-board-meeting-abstract-vector-background.webp
END:VEVENT
BEGIN:VEVENT
DTSTART;TZID=America/New_York:20270908T093000
DTEND;TZID=America/New_York:20270908T113000
DTSTAMP:20260423T144412
CREATED:20260405T134448Z
LAST-MODIFIED:20260405T135257Z
UID:6196-1820395800-1820403000@tlcwomensgivingcircle.org
SUMMARY:Board Meeting
DESCRIPTION:
URL:https://tlcwomensgivingcircle.org/event/board-meeting-21/
LOCATION:The Lake Club Grande Clubhouse\, 15804 Clearlake Ave\, Lakewood Ranch\, Florida\, 34202\, United States
CATEGORIES:Goverance,Home Page,Meetings
ATTACH;FMTTYPE=image/webp:https://tlcwomensgivingcircle.org/wp-content/uploads/2024/01/depositphotos_90373724-stock-illustration-board-meeting-abstract-vector-background.webp
END:VEVENT
BEGIN:VEVENT
DTSTART;TZID=America/New_York:20271006T093000
DTEND;TZID=America/New_York:20271006T113000
DTSTAMP:20260423T144412
CREATED:20260405T134724Z
LAST-MODIFIED:20260405T135256Z
UID:6200-1822815000-1822822200@tlcwomensgivingcircle.org
SUMMARY:Board Meeting
DESCRIPTION:
URL:https://tlcwomensgivingcircle.org/event/board-meeting-23/
LOCATION:The Lake Club Grande Clubhouse\, 15804 Clearlake Ave\, Lakewood Ranch\, Florida\, 34202\, United States
CATEGORIES:Goverance,Home Page,Meetings
ATTACH;FMTTYPE=image/webp:https://tlcwomensgivingcircle.org/wp-content/uploads/2024/01/depositphotos_90373724-stock-illustration-board-meeting-abstract-vector-background.webp
END:VEVENT
BEGIN:VEVENT
DTSTART;TZID=America/New_York:20271103T093000
DTEND;TZID=America/New_York:20271103T113000
DTSTAMP:20260423T144412
CREATED:20260405T134559Z
LAST-MODIFIED:20260405T135256Z
UID:6198-1825234200-1825241400@tlcwomensgivingcircle.org
SUMMARY:Board Meeting
DESCRIPTION:
URL:https://tlcwomensgivingcircle.org/event/board-meeting-22/
LOCATION:The Lake Club Grande Clubhouse\, 15804 Clearlake Ave\, Lakewood Ranch\, Florida\, 34202\, United States
CATEGORIES:Goverance,Home Page,Meetings
ATTACH;FMTTYPE=image/webp:https://tlcwomensgivingcircle.org/wp-content/uploads/2024/01/depositphotos_90373724-stock-illustration-board-meeting-abstract-vector-background.webp
END:VEVENT
BEGIN:VEVENT
DTSTART;TZID=America/New_York:20271208T093000
DTEND;TZID=America/New_York:20271208T113000
DTSTAMP:20260423T144412
CREATED:20260405T135128Z
LAST-MODIFIED:20260405T135256Z
UID:6204-1828258200-1828265400@tlcwomensgivingcircle.org
SUMMARY:Annual Meeting of the Board of Directors
DESCRIPTION:
URL:https://tlcwomensgivingcircle.org/event/annual-meeting-of-the-board-of-directors-2/
LOCATION:The Lake Club Grande Clubhouse\, 15804 Clearlake Ave\, Lakewood Ranch\, Florida\, 34202\, United States
CATEGORIES:Goverance,Home Page,Meetings
ATTACH;FMTTYPE=image/jpeg:https://tlcwomensgivingcircle.org/wp-content/uploads/2023/11/Member-Meeting.jpeg
END:VEVENT
END:VCALENDAR