BEGIN:VCALENDAR
VERSION:2.0
PRODID:-// - ECPv6.15.20//NONSGML v1.0//EN
CALSCALE:GREGORIAN
METHOD:PUBLISH
X-ORIGINAL-URL:https://tlcwomensgivingcircle.org
X-WR-CALDESC:Events for 
REFRESH-INTERVAL;VALUE=DURATION:PT1H
X-Robots-Tag:noindex
X-PUBLISHED-TTL:PT1H
BEGIN:VTIMEZONE
TZID:America/New_York
BEGIN:DAYLIGHT
TZOFFSETFROM:-0500
TZOFFSETTO:-0400
TZNAME:EDT
DTSTART:20250309T070000
END:DAYLIGHT
BEGIN:STANDARD
TZOFFSETFROM:-0400
TZOFFSETTO:-0500
TZNAME:EST
DTSTART:20251102T060000
END:STANDARD
BEGIN:DAYLIGHT
TZOFFSETFROM:-0500
TZOFFSETTO:-0400
TZNAME:EDT
DTSTART:20260308T070000
END:DAYLIGHT
BEGIN:STANDARD
TZOFFSETFROM:-0400
TZOFFSETTO:-0500
TZNAME:EST
DTSTART:20261101T060000
END:STANDARD
BEGIN:DAYLIGHT
TZOFFSETFROM:-0500
TZOFFSETTO:-0400
TZNAME:EDT
DTSTART:20270314T070000
END:DAYLIGHT
BEGIN:STANDARD
TZOFFSETFROM:-0400
TZOFFSETTO:-0500
TZNAME:EST
DTSTART:20271107T060000
END:STANDARD
END:VTIMEZONE
BEGIN:VEVENT
DTSTART;TZID=America/New_York:20260304T170000
DTEND;TZID=America/New_York:20260304T200000
DTSTAMP:20260424T184904
CREATED:20260108T162335Z
LAST-MODIFIED:20260304T163136Z
UID:4419-1772643600-1772654400@tlcwomensgivingcircle.org
SUMMARY:March Potluck Gathering
DESCRIPTION:Join us for a relaxed and joyful evening of connection\, conversation\, and community at our March Giving Circle Potluck! This is a wonderful opportunity to catch up with fellow members\, welcome new faces\, and enjoy a cozy night together in a beautiful home setting. \n\n\n\nDate: Wednesday\, March 4\, 2026 \n\n\n\nTime: 5:00 – 8:00 PM \n\n\n\nLocation: Jo Jadin’s Home:  14767 Como Circle \n\n\n\n\n\nWhat to Bring \n\n\n\nPlease sign up to bring any of the categories listed below to share: \n\n\n\n\n\n\n\n\n\n\nAppetizer – 6 Spots –  7 Signed-Up\n\n\n\nSalad – 3 Spots –  2 Signed-Up\n\n\n\nMain Dish – 6 Spots – 3 Signed-Up\n\n\n\nDessert – 6 Spots –  4 Signed-Up\n\n\n\nRed wine – 9 Bottles – 4 Signed-Up\n\n\n\nWhite wine – 8 Bottles – 2 Signed-Up\n\n\n\nProsecco / sparkling / champagne – 8 Bottles –  3 Signed-Up\n\n\n\nNon-alcoholic beverages (sparkling water\, still water\, sodas\, etc.) – 3 Spots \n\n\n\nCoffee / tea – 3 Spots – 0 Signed-Up\n\n\n\nIce – 2 Spots – – 1 Signed-Up\n\n\n\nSupplies (including disposables\, to-go containers\, wine openers / corkscrews)\n\n\n\n\n\n\n\n\n\n\nWhen signing up\, please enter the name or type of dish you plan to bring. This helps us avoid duplicates and makes planning easier. \n\n\n\nHere is what has been selected so far: \n\n\n\n\n\n\nName\nSelect Item You Will Bring\nName or Type of Dish You Plan to Bring\nEdit\n\n\n\n\nPeggy Li\nRed Wine Bottle\n\n\n\n\n\n\n\nVivian Lane\nRed Wine Bottle\n\n\n\n\n\n\n\nLisa Levesque\nRed Wine Bottle\n\n\n\n\n\n\n\nLauren Hirsch\nProsecco/Sparkling/Champagne Bottle\n\n\n\n\n\n\n\nJohnni Gullo-Brown\nProsecco/Sparkling/Champagne Bottle\nJohnni Gullo-Brown\n\n\n\n\n\n\nGari Palmer\nNon-Alcoholic Beverage  (sparkling water\, still water\, sodas\, etc.)\nSparkling water. Do you prefer small plastic bottles or cans?\n\n\n\n\n\n\nLinda Goldman\nDessert\nPastry\n\n\n\n\n\n\nJoan Loewy\nDessert\n\n\n\n\n\n\n\nArleen Levine\nDessert\nCheesecake\n\n\n\n\n\n\nWendy Fox\nAppetizer\nTurkey sliders\n\n\n\n\n\n\nLu-Anne Albert\nAppetizer\nCaprese Skewers\n\n\n\n\n\n\nRuth Harshman\nAppetizer\nVeggies and Humus\n\n\n\n\n\n\nNancy Lepain\nAppetizer\n\n\n\n\n\n\n\nBernadette Waterman\nAppetizer\nShrimp cocktail\n\n\n\n\n\n\nCarol Kloeppel\nAppetizer\nSausage Pinwheels\n\n\n\n\n\n\nRoxanne DiGangi\nMain Dish\nGrilled chicken\n\n\n\n\n\n\nPatricia Pope\nMain Dish\nMac & Cheese\n\n\n\n\n\n\nBarbara Najmy\nMain Dish\nFresh Baked Bread\n\n\n\n\n\n\nLinda Abravanel\nSalad\, White Wine Bottle\nGreek salad with grilled chicken\n\n\n\n\n\n\nKelly Lountzis\nDessert\, Red Wine Bottle\, White Wine Bottle\nDessert\n\n\n\n\n\n\nLeslie Powers\nAppetizer\, Salad\, Prosecco/Sparkling/Champagne Bottle\nWill bring a large salad or appetizer if that is direction we are going? Let me know!\n\n\n\n\n\n\nPatricia Horner\nIce\, Disposable plates (dinner plates & dessert plates)\, Disposable cutlery\, Disposable napkins\, Disposable cups\n\n\n\n\n\n\n\nSheila Lau\n\nLet me know what you would like me to bring.  Maybe we just make this all heavy appetizers.\n\n\n\n\n\n\n\n\n\n\n\nTo register for the event\, complete the form below: \n\n\n\n\n\n\nSocial – Potluck Registration\n\n\n\n\n\n\n\n\n	Name\n		*\n	\n	\n	\n		Name	\n\n	\n					\n				\n					First Name				\n\n				First Name			\n						\n				\n					Last Name				\n\n				Last Name			\n				\n\n\n	\n	\n\n\n	Select Item You Will Bring\n		*\n	\n						\n			 Salad\n					\n			 Main Dish\n					\n			 Dessert\n					\n			 Red Wine Bottle\n					\n			 White Wine Bottle\n					\n			 Prosecco/Sparkling/Champagne Bottle\n					\n			 Non-Alcoholic Beverage  (sparkling water\, still water\, sodas\, etc.)\n					\n			 Coffee/Tea\n					\n			 Ice\n					\n			 Disposable plates (dinner plates & dessert plates)\n					\n			 Disposable cutlery\n					\n			 Disposable napkins\n					\n			 Disposable cups\n					\n			 Disposable wine glasses\n					\n			 Disposable serving utensils\n					\n			 Wine openers / corkscrews\n					\n			 To-go containers\n\n	\n	\n\n\n	Name or Type of Dish You Plan to Bring\n		\n	\n	\n	\n	\n\n\n	\nSubmit\n\n\n\n\n\n\n	\n			\n			\n				If you are human\, leave this field blank.			\n			\n		\n		\n\n\n\nΔ
URL:https://tlcwomensgivingcircle.org/event/march-community-potluck/
CATEGORIES:Registration Required,Socials
ATTACH;FMTTYPE=image/png:https://tlcwomensgivingcircle.org/wp-content/uploads/2026/01/29468431_2097019940545564_2720905113941049344_n.png
END:VEVENT
END:VCALENDAR