BEGIN:VCALENDAR
VERSION:2.0
PRODID:-// - ECPv6.15.20//NONSGML v1.0//EN
CALSCALE:GREGORIAN
METHOD:PUBLISH
X-ORIGINAL-URL:https://tlcwomensgivingcircle.org
X-WR-CALDESC:Events for 
REFRESH-INTERVAL;VALUE=DURATION:PT1H
X-Robots-Tag:noindex
X-PUBLISHED-TTL:PT1H
BEGIN:VTIMEZONE
TZID:America/New_York
BEGIN:DAYLIGHT
TZOFFSETFROM:-0500
TZOFFSETTO:-0400
TZNAME:EDT
DTSTART:20260308T070000
END:DAYLIGHT
BEGIN:STANDARD
TZOFFSETFROM:-0400
TZOFFSETTO:-0500
TZNAME:EST
DTSTART:20261101T060000
END:STANDARD
BEGIN:DAYLIGHT
TZOFFSETFROM:-0500
TZOFFSETTO:-0400
TZNAME:EDT
DTSTART:20270314T070000
END:DAYLIGHT
BEGIN:STANDARD
TZOFFSETFROM:-0400
TZOFFSETTO:-0500
TZNAME:EST
DTSTART:20271107T060000
END:STANDARD
BEGIN:DAYLIGHT
TZOFFSETFROM:-0500
TZOFFSETTO:-0400
TZNAME:EDT
DTSTART:20280312T070000
END:DAYLIGHT
BEGIN:STANDARD
TZOFFSETFROM:-0400
TZOFFSETTO:-0500
TZNAME:EST
DTSTART:20281105T060000
END:STANDARD
END:VTIMEZONE
BEGIN:VEVENT
DTSTART;TZID=America/New_York:20271006T093000
DTEND;TZID=America/New_York:20271006T113000
DTSTAMP:20260423T163517
CREATED:20260405T134724Z
LAST-MODIFIED:20260405T135256Z
UID:6200-1822815000-1822822200@tlcwomensgivingcircle.org
SUMMARY:Board Meeting
DESCRIPTION:
URL:https://tlcwomensgivingcircle.org/event/board-meeting-23/
LOCATION:The Lake Club Grande Clubhouse\, 15804 Clearlake Ave\, Lakewood Ranch\, Florida\, 34202\, United States
CATEGORIES:Goverance,Home Page,Meetings
ATTACH;FMTTYPE=image/webp:https://tlcwomensgivingcircle.org/wp-content/uploads/2024/01/depositphotos_90373724-stock-illustration-board-meeting-abstract-vector-background.webp
END:VEVENT
BEGIN:VEVENT
DTSTART;TZID=America/New_York:20271103T093000
DTEND;TZID=America/New_York:20271103T113000
DTSTAMP:20260423T163517
CREATED:20260405T134559Z
LAST-MODIFIED:20260405T135256Z
UID:6198-1825234200-1825241400@tlcwomensgivingcircle.org
SUMMARY:Board Meeting
DESCRIPTION:
URL:https://tlcwomensgivingcircle.org/event/board-meeting-22/
LOCATION:The Lake Club Grande Clubhouse\, 15804 Clearlake Ave\, Lakewood Ranch\, Florida\, 34202\, United States
CATEGORIES:Goverance,Home Page,Meetings
ATTACH;FMTTYPE=image/webp:https://tlcwomensgivingcircle.org/wp-content/uploads/2024/01/depositphotos_90373724-stock-illustration-board-meeting-abstract-vector-background.webp
END:VEVENT
BEGIN:VEVENT
DTSTART;TZID=America/New_York:20271208T093000
DTEND;TZID=America/New_York:20271208T113000
DTSTAMP:20260423T163517
CREATED:20260405T135128Z
LAST-MODIFIED:20260405T135256Z
UID:6204-1828258200-1828265400@tlcwomensgivingcircle.org
SUMMARY:Annual Meeting of the Board of Directors
DESCRIPTION:
URL:https://tlcwomensgivingcircle.org/event/annual-meeting-of-the-board-of-directors-2/
LOCATION:The Lake Club Grande Clubhouse\, 15804 Clearlake Ave\, Lakewood Ranch\, Florida\, 34202\, United States
CATEGORIES:Goverance,Home Page,Meetings
ATTACH;FMTTYPE=image/jpeg:https://tlcwomensgivingcircle.org/wp-content/uploads/2023/11/Member-Meeting.jpeg
END:VEVENT
END:VCALENDAR