BEGIN:VCALENDAR
VERSION:2.0
PRODID:-// - ECPv6.15.20//NONSGML v1.0//EN
CALSCALE:GREGORIAN
METHOD:PUBLISH
X-ORIGINAL-URL:https://tlcwomensgivingcircle.org
X-WR-CALDESC:Events for 
REFRESH-INTERVAL;VALUE=DURATION:PT1H
X-Robots-Tag:noindex
X-PUBLISHED-TTL:PT1H
BEGIN:VTIMEZONE
TZID:America/New_York
BEGIN:DAYLIGHT
TZOFFSETFROM:-0500
TZOFFSETTO:-0400
TZNAME:EDT
DTSTART:20250309T070000
END:DAYLIGHT
BEGIN:STANDARD
TZOFFSETFROM:-0400
TZOFFSETTO:-0500
TZNAME:EST
DTSTART:20251102T060000
END:STANDARD
BEGIN:DAYLIGHT
TZOFFSETFROM:-0500
TZOFFSETTO:-0400
TZNAME:EDT
DTSTART:20260308T070000
END:DAYLIGHT
BEGIN:STANDARD
TZOFFSETFROM:-0400
TZOFFSETTO:-0500
TZNAME:EST
DTSTART:20261101T060000
END:STANDARD
BEGIN:DAYLIGHT
TZOFFSETFROM:-0500
TZOFFSETTO:-0400
TZNAME:EDT
DTSTART:20270314T070000
END:DAYLIGHT
BEGIN:STANDARD
TZOFFSETFROM:-0400
TZOFFSETTO:-0500
TZNAME:EST
DTSTART:20271107T060000
END:STANDARD
END:VTIMEZONE
BEGIN:VEVENT
DTSTART;TZID=America/New_York:20260204T093000
DTEND;TZID=America/New_York:20260204T113000
DTSTAMP:20260423T150813
CREATED:20260108T171706Z
LAST-MODIFIED:20260108T171709Z
UID:4438-1770197400-1770204600@tlcwomensgivingcircle.org
SUMMARY:Board Meeting
DESCRIPTION:
URL:https://tlcwomensgivingcircle.org/event/board-meeting-9/
LOCATION:The Lake Club Grande Clubhouse\, 15804 Clearlake Ave\, Lakewood Ranch\, Florida\, 34202\, United States
CATEGORIES:Goverance,Home Page,Meetings,Upcoming
ATTACH;FMTTYPE=image/jpeg:https://tlcwomensgivingcircle.org/wp-content/uploads/2026/01/Unknown-1-1.jpeg
END:VEVENT
BEGIN:VEVENT
DTSTART;TZID=America/New_York:20260204T120000
DTEND;TZID=America/New_York:20260204T140000
DTSTAMP:20260423T150813
CREATED:20260108T171122Z
LAST-MODIFIED:20260108T171124Z
UID:4436-1770206400-1770213600@tlcwomensgivingcircle.org
SUMMARY:Circle of Friends Committee Meeting
DESCRIPTION:
URL:https://tlcwomensgivingcircle.org/event/circle-of-friends-committee-meeting/
LOCATION:The Lodge at Country Club East\, 16235 Players Drive\, Lakewood Ranch\, Florida\, 34202
CATEGORIES:Meetings
ATTACH;FMTTYPE=image/jpeg:https://tlcwomensgivingcircle.org/wp-content/uploads/2025/11/istockphoto-1004625394-612x612-1.jpg
END:VEVENT
BEGIN:VEVENT
DTSTART;TZID=America/New_York:20260226T160000
DTEND;TZID=America/New_York:20260226T180000
DTSTAMP:20260423T150813
CREATED:20250917T165017Z
LAST-MODIFIED:20260222T143320Z
UID:3998-1772121600-1772128800@tlcwomensgivingcircle.org
SUMMARY:TLCWGC Grant Recipient Reception
DESCRIPTION:The Power of Giving: Honoring Impact\, Service & Community \n\n\n\n\n\n\nPlease join us for an afternoon inspired by generosity\, guided by purpose\, and strengthened by community.   \n\n\n\nThe Lake Club Women’s Giving Circle is honored to celebrate our \n\n\n\n2025 Grant RecipientsCharitable organizations whose compassion\, dedication\, and service create lasting change for women\, children\, and families throughout Sarasota and Manatee Counties. \n\n\n\nWe will also honor the volunteers whose time\, care\, and dedication have helped shape our mission\, along with community supporters whose continued belief in the Circle has enabled our impact to expand and reach new heights each year. \n\n\n\nHors d’oeuvres and a selection of wine will be served. \n\n\n\nLocation: The Lake Club Grande Clubhouse \n\n\n\nKindly RSVP by February 20\, 2026.  Registration Closed
URL:https://tlcwomensgivingcircle.org/event/tlc-grant-recipient-reception/
LOCATION:The Lake Club Grande Clubhouse\, 15804 Clearlake Ave\, Lakewood Ranch\, Florida\, 34202\, United States
CATEGORIES:Home Page,Meetings,Upcoming
ATTACH;FMTTYPE=image/png:https://tlcwomensgivingcircle.org/wp-content/uploads/2025/09/Copy-of-Blush-Pink-Marble-Watercolor-Wedding-Menu-8.5-x-11-in-8.5-x-11-in-8.5-x-11-in.png
END:VEVENT
END:VCALENDAR